BEGIN:VCALENDAR
VERSION:2.0
PRODID:-//Sarean Valdizarbe - ECPv6.15.20//NONSGML v1.0//EN
CALSCALE:GREGORIAN
METHOD:PUBLISH
X-ORIGINAL-URL:https://sareanvaldizarbe.org
X-WR-CALDESC:Eventos para Sarean Valdizarbe
REFRESH-INTERVAL;VALUE=DURATION:PT1H
X-Robots-Tag:noindex
X-PUBLISHED-TTL:PT1H
BEGIN:VTIMEZONE
TZID:UTC
BEGIN:STANDARD
TZOFFSETFROM:+0000
TZOFFSETTO:+0000
TZNAME:UTC
DTSTART:20230101T000000
END:STANDARD
END:VTIMEZONE
BEGIN:VEVENT
DTSTART;TZID=UTC:20240715T093000
DTEND;TZID=UTC:20240719T133000
DTSTAMP:20260423T120125
CREATED:20240711T085547Z
LAST-MODIFIED:20240711T090341Z
UID:197-1721035800-1721395800@sareanvaldizarbe.org
SUMMARY:KUL- cultura en el corazón del pueblo
DESCRIPTION:Matrícula en el Ayuntamiento de Puente la Reina\, oficina KUL\, C/mayor 99. \nPlazo de inscripción del 1 al 15 de julio.
URL:https://sareanvaldizarbe.org/event/kul-cultura-en-el-corazon-del-pueblo/
LOCATION:Colegio Público de Puente la Reina\, Calle mayor 97\, Puente la Reina\, Navarra\, 31100
ATTACH;FMTTYPE=image/jpeg:https://sareanvaldizarbe.org/wp-content/uploads/2024/07/KUL-PUENTE-REDES-1080-x-1350-px-1.jpg
END:VEVENT
BEGIN:VEVENT
DTSTART;TZID=UTC:20240506T080000
DTEND;TZID=UTC:20240519T170000
DTSTAMP:20260423T120125
CREATED:20240514T082146Z
LAST-MODIFIED:20240514T082146Z
UID:181-1714982400-1716138000@sareanvaldizarbe.org
SUMMARY:Campaña "Palabras que cuidan"
DESCRIPTION:Campaña de sensibilización para invitar a toda la población a reflexionar sobre el valor del cuidado y la amabilidad en nuestra comunicación.
URL:https://sareanvaldizarbe.org/event/campana-palabras-que-cuidan/
LOCATION:Colegio Público de Puente la Reina\, Calle mayor 97\, Puente la Reina\, Navarra\, 31100
END:VEVENT
END:VCALENDAR